BEGIN:VCALENDAR
VERSION:2.0
PRODID:-//pretix//pretix.eu//
BEGIN:VTIMEZONE
TZID:Europe/Berlin
BEGIN:STANDARD
DTSTART:20001029T040000
RRULE:FREQ=YEARLY;BYDAY=-1SU;BYMONTH=10
TZNAME:CET
TZOFFSETFROM:+0200
TZOFFSETTO:+0100
END:STANDARD
BEGIN:DAYLIGHT
DTSTART:20000326T030000
RRULE:FREQ=YEARLY;BYDAY=-1SU;BYMONTH=3
TZNAME:CEST
TZOFFSETFROM:+0100
TZOFFSETTO:+0200
END:DAYLIGHT
END:VTIMEZONE
BEGIN:VEVENT
UID:pretix-onlywe-e8bfq-0@onlywe.ticketshop.live
DTSTART;TZID=Europe/Berlin:20200224T170000
DTEND;TZID=Europe/Berlin:20200224T190000
DESCRIPTION:Tickets: https://onlywe.ticketshop.live/e8bfq/\nOrganizer: BGPF
 -Mode BV
DTSTAMP:20260420T101535Z
LOCATION:Rabobank Zaanstreek\, 2 Ankersmidplein\, 1506 CK Zaandam
SUMMARY:Masterclass: How do you finance the growth of a sustainable IT comp
 any?
END:VEVENT
END:VCALENDAR
